BEGIN:VCALENDAR
VERSION:2.0
PRODID:-//Jugendfeuerwehr Niederbayern - ECPv6.9.0//NONSGML v1.0//EN
CALSCALE:GREGORIAN
METHOD:PUBLISH
X-ORIGINAL-URL:https://jf-niederbayern.de
X-WR-CALDESC:Veranstaltungen für Jugendfeuerwehr Niederbayern
REFRESH-INTERVAL;VALUE=DURATION:PT1H
X-Robots-Tag:noindex
X-PUBLISHED-TTL:PT1H
BEGIN:VTIMEZONE
TZID:Europe/Berlin
BEGIN:DAYLIGHT
TZOFFSETFROM:+0100
TZOFFSETTO:+0200
TZNAME:CEST
DTSTART:20230326T010000
END:DAYLIGHT
BEGIN:STANDARD
TZOFFSETFROM:+0200
TZOFFSETTO:+0100
TZNAME:CET
DTSTART:20231029T010000
END:STANDARD
END:VTIMEZONE
BEGIN:VEVENT
DTSTART;VALUE=DATE:20230730
DTEND;VALUE=DATE:20230805
DTSTAMP:20260423T105117
CREATED:20230314T140006Z
LAST-MODIFIED:20230314T140114Z
UID:151493-1690675200-1691193599@jf-niederbayern.de
SUMMARY:Erlebniscamp Bau
DESCRIPTION:Werte Kameradinnen und Kameraden\,  \nweitere Infos findet Ihr in den Berichten. 
URL:https://jf-niederbayern.de/event/erlebniscamp-bau-4/
LOCATION:Bauindustriezentrum Stockdorf bei München\, Heimstr. 17\, Stockdorf b. München\, Bayern\, 82131\, Deutschland
ATTACH;FMTTYPE=image/png:https://jf-niederbayern.de/wp-content/uploads/2023/03/250px-Bauindustrie_Bayern_Logo.svg_.png
END:VEVENT
BEGIN:VEVENT
DTSTART;VALUE=DATE:20230610
DTEND;VALUE=DATE:20230611
DTSTAMP:20260423T105117
CREATED:20230314T141427Z
LAST-MODIFIED:20230314T141649Z
UID:151499-1686355200-1686441599@jf-niederbayern.de
SUMMARY:6. Bayer. Leistungsbewerb im Jugendwettbewerb CTIF
DESCRIPTION:Werte Kameradinnen und Kameraden\,  \nweitere Infos sowie die Unterlagen zum Download findet Ihr in den Berichten. 
URL:https://jf-niederbayern.de/event/6-bayer-leistungsbewerb-im-jugendwettbewerb-ctif/
LOCATION:Bayern
ATTACH;FMTTYPE=image/png:https://jf-niederbayern.de/wp-content/uploads/2021/12/Logo-CTIF.png
END:VEVENT
BEGIN:VEVENT
DTSTART;VALUE=DATE:20230529
DTEND;VALUE=DATE:20230603
DTSTAMP:20260423T105117
CREATED:20230314T135634Z
LAST-MODIFIED:20230314T135813Z
UID:151489-1685318400-1685750399@jf-niederbayern.de
SUMMARY:Erlebniscamp Bau
DESCRIPTION:Werte Kameradinnen und Kameraden\,  \nweitere Infos findet ihr in den Berichten.
URL:https://jf-niederbayern.de/event/erlebniscamp-bau-3/
LOCATION:Bauindustriezentrum Nürnberg – Wetzendorf\, Parlerstr. 67\, Nürnberg\, Bayern\, 92425\, Deutschland
ATTACH;FMTTYPE=image/png:https://jf-niederbayern.de/wp-content/uploads/2023/03/250px-Bauindustrie_Bayern_Logo.svg_.png
END:VEVENT
BEGIN:VEVENT
DTSTART;VALUE=DATE:20230428
DTEND;VALUE=DATE:20230501
DTSTAMP:20260423T105117
CREATED:20230314T142447Z
LAST-MODIFIED:20230314T142646Z
UID:151505-1682640000-1682899199@jf-niederbayern.de
SUMMARY:Erlebniswochenende Klettern
DESCRIPTION:Lieber Kameradinnen und Kameraden\,  \nweitere Infos zur Veranstaltung findet ihr in den Berichten. 
URL:https://jf-niederbayern.de/event/erlebniswochenende-klettern/
LOCATION:Jugendhaus Burg Feuerstein\, Burg Feuerstein 2\, Ebermannstadt\, Bayern\, 91320
ATTACH;FMTTYPE=image/png:https://jf-niederbayern.de/wp-content/uploads/2021/12/JFB_Logo_Kalender.png
END:VEVENT
BEGIN:VEVENT
DTSTART;VALUE=DATE:20230422
DTEND;VALUE=DATE:20230423
DTSTAMP:20260423T105117
CREATED:20230314T140643Z
LAST-MODIFIED:20230314T141100Z
UID:151495-1682121600-1682207999@jf-niederbayern.de
SUMMARY:Aktionstag Verkehrssicherheit in Mühldorf
DESCRIPTION:Werte Kameradinnen und Kameraden\,  \nweitere Infos zur Veranstaltung findet ihr in den Berichten.
URL:https://jf-niederbayern.de/event/aktionstag-verkehrssicherheit-in-muehldorf/
LOCATION:Flugplatz Mühldorf\, Flugplattzstr. 13\, Mühldorf\, Bayern\, 84553
ATTACH;FMTTYPE=image/png:https://jf-niederbayern.de/wp-content/uploads/2021/12/JFB_Logo_Kalender.png
END:VEVENT
BEGIN:VEVENT
DTSTART;VALUE=DATE:20230402
DTEND;VALUE=DATE:20230407
DTSTAMP:20260423T105117
CREATED:20230314T135137Z
LAST-MODIFIED:20230314T135540Z
UID:151485-1680393600-1680825599@jf-niederbayern.de
SUMMARY:Erlebniscamp Bau
DESCRIPTION:Werte Kameradinnen und Kameraden\,  \nweitere Infos zur Veranstaltung in den Berichten.
URL:https://jf-niederbayern.de/event/erlebniscamp-bau-2/
LOCATION:Bayern
ATTACH;FMTTYPE=image/png:https://jf-niederbayern.de/wp-content/uploads/2023/03/250px-Bauindustrie_Bayern_Logo.svg_.png
END:VEVENT
BEGIN:VEVENT
DTSTART;VALUE=DATE:20230402
DTEND;VALUE=DATE:20230407
DTSTAMP:20260423T105117
CREATED:20230314T132823Z
LAST-MODIFIED:20230314T134944Z
UID:151471-1680393600-1680825599@jf-niederbayern.de
SUMMARY:Erlebniscamp Bau
DESCRIPTION:Werte Kameradinnen und Kameraden\,  \nweitere Infos zur Veranstaltung in den Berichten.
URL:https://jf-niederbayern.de/event/erlebniscamp-bau/
LOCATION:Bauindustriezentrum Stockdorf bei München\, Heimstr. 17\, Stockdorf b. München\, Bayern\, 82131\, Deutschland
ATTACH;FMTTYPE=image/png:https://jf-niederbayern.de/wp-content/uploads/2023/03/250px-Bauindustrie_Bayern_Logo.svg_.png
END:VEVENT
END:VCALENDAR